BEGIN:VCALENDAR
VERSION:2.0
PRODID:-//La Ludoteca - ECPv6.10.0//NONSGML v1.0//EN
CALSCALE:GREGORIAN
METHOD:PUBLISH
X-WR-CALNAME:La Ludoteca
X-ORIGINAL-URL:https://laludoteca.cl
X-WR-CALDESC:Eventos para La Ludoteca
REFRESH-INTERVAL;VALUE=DURATION:PT1H
X-Robots-Tag:noindex
X-PUBLISHED-TTL:PT1H
BEGIN:VTIMEZONE
TZID:America/Santiago
BEGIN:STANDARD
TZOFFSETFROM:-0300
TZOFFSETTO:-0400
TZNAME:-04
DTSTART:20200405T030000
END:STANDARD
BEGIN:DAYLIGHT
TZOFFSETFROM:-0400
TZOFFSETTO:-0300
TZNAME:-03
DTSTART:20200906T040000
END:DAYLIGHT
END:VTIMEZONE
BEGIN:VEVENT
DTSTART;TZID=America/Santiago:20200713T170000
DTEND;TZID=America/Santiago:20200713T173000
DTSTAMP:20260422T180010
CREATED:20200714T161139Z
LAST-MODIFIED:20200714T164541Z
UID:1448-1594659600-1594661400@laludoteca.cl
SUMMARY:Taller On Line “Pura Expresión: Canto\, Música y Cuento”
DESCRIPTION:Con Natalia Scordamaglia. \nPor medio del canto\, la música y los cuentos los niños podrán compartir una instancia de encuentro con sus pares en vivo!!!\n⏰ Duración: 30 a 40 minutos.\nValor por Sesión: $4.000. Si tomas 2 veces por semana $3.500 por sesión\n🧒🏻 Destinatarios: Niños de 2 a 4 años \n📩 INSCRIPCIONES: contacto@laludoteca.cl
URL:https://laludoteca.cl/taller/1448/
CATEGORIES:Actividad On Line,Taller On Line
ATTACH;FMTTYPE=image/jpeg:https://laludoteca.cl/wp-content/uploads/2020/07/evento_canto.jpg
END:VEVENT
BEGIN:VEVENT
DTSTART;TZID=America/Santiago:20200714T110000
DTEND;TZID=America/Santiago:20200714T113000
DTSTAMP:20260422T180010
CREATED:20200714T151417Z
LAST-MODIFIED:20200714T164541Z
UID:1438-1594724400-1594726200@laludoteca.cl
SUMMARY:Taller On Line “Pura Expresión: Canto\, Música y Cuento”
DESCRIPTION:Dirigido por Natalia Scordamaglia. \nPor medio del canto\, la música y los cuentos los niños podrán compartir una instancia de encuentro con sus pares vía en vivo!!!\n⏰ Duración: 30 a 40 minutos.\nValor por Sesión: $4.000. Si tomas 2 veces por semana $3.500 por sesión\n🧒🏻 Destinatarios: Niños de 2 a 4 años \n📩 INSCRIPCIONES: contacto@laludoteca.cl
URL:https://laludoteca.cl/taller/taller-on-line-pura-expresion-canto-musica-y-cuento-4/
CATEGORIES:Actividad On Line,Taller On Line
ATTACH;FMTTYPE=image/jpeg:https://laludoteca.cl/wp-content/uploads/2020/07/evento_canto.jpg
END:VEVENT
BEGIN:VEVENT
DTSTART;TZID=America/Santiago:20200714T160000
DTEND;TZID=America/Santiago:20200714T163000
DTSTAMP:20260422T180010
CREATED:20200714T151550Z
LAST-MODIFIED:20200714T164541Z
UID:1440-1594742400-1594744200@laludoteca.cl
SUMMARY:Taller On Line «Ciencia Entretenida»
DESCRIPTION:Dirigido por Dana Paz. \nPor medio de distintas actividades se potenciará el desarrollo del pensamiento lógico y la apreciación de elementos del entorno a través de experimentos concretos que el niño/a podrá desarrollar desde su casa / Actividad en vivo. \n⏰ Duración: 30 a 40 minutos.\nValor por Sesión: $4.000. Si tomas 2 veces por semana $3.500 por sesión\n🧒🏻 Destinatarios: Niños de 5 a 9 años.\n📩 INSCRIPCIONES: contacto@laludoteca.cl
URL:https://laludoteca.cl/taller/taller-on-line-ciencia-entretenida-4/
CATEGORIES:Actividad On Line,Taller On Line
ATTACH;FMTTYPE=image/jpeg:https://laludoteca.cl/wp-content/uploads/2020/07/evento_ciencia-entretenida.jpg
END:VEVENT
BEGIN:VEVENT
DTSTART;TZID=America/Santiago:20200715T170000
DTEND;TZID=America/Santiago:20200715T173000
DTSTAMP:20260422T180010
CREATED:20200714T153403Z
LAST-MODIFIED:20200714T164540Z
UID:1442-1594832400-1594834200@laludoteca.cl
SUMMARY:Taller On Line “Pura Expresión: Canto\, Música y Cuento”
DESCRIPTION:Dirige Natalia Scordamaglia. \nPor medio del canto\, la música y los cuentos los niños podrán compartir una instancia de encuentro con sus pares vía on line\, en vivo!!!\n⏰ Duración: 30 a 40 minutos.\nValor por Sesión: $4.000. Si tomas 2 veces por semana $3.500 por sesión\n🧒🏻 Destinatarios: Niños de 2 a 4 años \n📩 INSCRIPCIONES: contacto@laludoteca.cl
URL:https://laludoteca.cl/taller/taller-on-line-pura-expresion-canto-musica-y-cuento-5/
CATEGORIES:Actividad On Line,Taller On Line
ATTACH;FMTTYPE=image/jpeg:https://laludoteca.cl/wp-content/uploads/2020/07/evento_canto.jpg
END:VEVENT
BEGIN:VEVENT
DTSTART;TZID=America/Santiago:20200716T110000
DTEND;TZID=America/Santiago:20200716T113000
DTSTAMP:20260422T180010
CREATED:20200714T160608Z
LAST-MODIFIED:20200714T164540Z
UID:1444-1594897200-1594899000@laludoteca.cl
SUMMARY:Taller On Line “Pura Expresión: Canto\, Música y Cuento”
DESCRIPTION:Dirigido por Natalia Scordamaglia. \nPor medio del canto\, la música y los cuentos los niños podrán compartir una instancia de encuentro con sus pares vía en vivo!!!\n⏰ Duración: 30 a 40 minutos.\nValor por Sesión: $4.000. Si tomas 2 veces por semana $3.500 por sesión\n🧒🏻 Destinatarios: Niños de 2 a 4 años \n📩 INSCRIPCIONES: contacto@laludoteca.cl
URL:https://laludoteca.cl/taller/taller-on-line-pura-expresion-canto-musica-y-cuento-6/
CATEGORIES:Actividad On Line,Taller On Line
ATTACH;FMTTYPE=image/jpeg:https://laludoteca.cl/wp-content/uploads/2020/07/evento_canto.jpg
END:VEVENT
BEGIN:VEVENT
DTSTART;TZID=America/Santiago:20200716T160000
DTEND;TZID=America/Santiago:20200716T163000
DTSTAMP:20260422T180010
CREATED:20200714T160927Z
LAST-MODIFIED:20200714T164540Z
UID:1446-1594915200-1594917000@laludoteca.cl
SUMMARY:Taller On Line “Ciencia Entretenida”
DESCRIPTION:Dirigido por Dana Paz. \nPor medio de distintas actividades se potenciará el desarrollo del pensamiento lógico y la apreciación de elementos del entorno a través de experimentos concretos que el niño/a podrá desarrollar desde su casa / Actividad en vivo. \n⏰ Duración: 30 a 40 minutos.\nValor por Sesión: $4.000. Si tomas 2 veces por semana $3.500 por sesión\n🧒🏻 Destinatarios: Niños de 5 a 9 años.\n📩 INSCRIPCIONES: contacto@laludoteca.cl
URL:https://laludoteca.cl/taller/taller-on-line-ciencia-entretenida-5/
CATEGORIES:Actividad On Line,Taller On Line
ATTACH;FMTTYPE=image/jpeg:https://laludoteca.cl/wp-content/uploads/2020/07/evento_ciencia-entretenida.jpg
END:VEVENT
BEGIN:VEVENT
DTSTART;TZID=America/Santiago:20200717T210000
DTEND;TZID=America/Santiago:20200717T220000
DTSTAMP:20260422T180010
CREATED:20200714T144325Z
LAST-MODIFIED:20200714T172047Z
UID:1433-1595019600-1595023200@laludoteca.cl
SUMMARY:Taller On Line Gratuito “Recreando Vínculos desde el Amor en Pandemia"
DESCRIPTION:Dirigido por Candela Navarro. \nEducadora de Párvulos con vocación humanista y social. Magíster en Creatividad\, Especialista en Sintergética. \nUn momento para que las mamás y papás se conecten y logren generar un buen vínculo en este contexto de confinamiento. \nSólo necesitas regalarte una hora y tener a mano lápices\, tijeras y papeles para desarrollar las actividades. \n⏰ Duración: 1 hora\n🧒🏻 Destinatarios: Papás y Mamás. \n📩 INSCRIPCIONES: contacto@laludoteca.cl \nTransmisión Vía Zoom
URL:https://laludoteca.cl/taller/taller-on-line-gratuito-recreando-vinculos-desde-el-amor-en-pandemia/
CATEGORIES:Actividad On Line,Taller On Line
ATTACH;FMTTYPE=image/jpeg:https://laludoteca.cl/wp-content/uploads/2020/07/evento_candela.jpg
END:VEVENT
BEGIN:VEVENT
DTSTART;TZID=America/Santiago:20200718T170000
DTEND;TZID=America/Santiago:20200718T170000
DTSTAMP:20260422T180010
CREATED:20200705T223248Z
LAST-MODIFIED:20200714T164637Z
UID:1379-1595091600-1595091600@laludoteca.cl
SUMMARY:Ciclo On Line Sábados Familiares "Fantasías y Conjuros"
DESCRIPTION:Con Ignacio de Jourdan. \nDisfruta un  nuevo show familiar de asombro\, humor y participación en formato virtual\, 100% interactiva en vivo. \nDirigido a toda la familia: niños\, papás\, abuelos y quien quiera sorprenderse. Especialmente para personas de 0 a 120 años que disfruten de imaginar un mundo en que los deseos se hacen realidad. \nRecomendado para toda la familia. \nDuración: 45 minutos \nValor por sesión: $5.000 • Valor Ciclo: $12.000 (3 sábados) \nInscripciones y reservas: contacto@laludoteca.cl
URL:https://laludoteca.cl/taller/ciclo-on-line-sabados-familiares-fantasias-y-conjuros/
CATEGORIES:Actividad On Line
ATTACH;FMTTYPE=image/jpeg:https://laludoteca.cl/wp-content/uploads/2020/07/evento-magia.jpg
END:VEVENT
BEGIN:VEVENT
DTSTART;TZID=America/Santiago:20200720T170000
DTEND;TZID=America/Santiago:20200720T173000
DTSTAMP:20260422T180010
CREATED:20200714T161332Z
LAST-MODIFIED:20200714T164540Z
UID:1451-1595264400-1595266200@laludoteca.cl
SUMMARY:Taller On Line “Pura Expresión: Canto\, Música y Cuento”
DESCRIPTION:Con Natalia Scordamaglia. \nPor medio del canto\, la música y los cuentos los niños podrán compartir una instancia de encuentro con sus pares en vivo!!!\n⏰ Duración: 30 a 40 minutos.\nValor por Sesión: $4.000. Si tomas 2 veces por semana $3.500 por sesión\n🧒🏻 Destinatarios: Niños de 2 a 4 años \n📩 INSCRIPCIONES: contacto@laludoteca.cl
URL:https://laludoteca.cl/taller/taller-on-line-pura-expresion-canto-musica-y-cuento-7/
CATEGORIES:Actividad On Line,Taller On Line
ATTACH;FMTTYPE=image/jpeg:https://laludoteca.cl/wp-content/uploads/2020/07/evento_canto.jpg
END:VEVENT
BEGIN:VEVENT
DTSTART;TZID=America/Santiago:20200721T110000
DTEND;TZID=America/Santiago:20200721T113000
DTSTAMP:20260422T180010
CREATED:20200714T161544Z
LAST-MODIFIED:20200714T164540Z
UID:1453-1595329200-1595331000@laludoteca.cl
SUMMARY:Taller On Line “Pura Expresión: Canto\, Música y Cuento”
DESCRIPTION:Con Natalia Scordamaglia. \nPor medio del canto\, la música y los cuentos los niños podrán compartir una instancia de encuentro con sus pares en vivo!!!\n⏰ Duración: 30 a 40 minutos.\nValor por Sesión: $4.000. Si tomas 2 veces por semana $3.500 por sesión\n🧒🏻 Destinatarios: Niños de 2 a 4 años \n📩 INSCRIPCIONES: contacto@laludoteca.cl
URL:https://laludoteca.cl/taller/taller-on-line-pura-expresion-canto-musica-y-cuento-8/
CATEGORIES:Actividad On Line,Taller On Line
ATTACH;FMTTYPE=image/jpeg:https://laludoteca.cl/wp-content/uploads/2020/07/evento_canto.jpg
END:VEVENT
BEGIN:VEVENT
DTSTART;TZID=America/Santiago:20200721T160000
DTEND;TZID=America/Santiago:20200721T163000
DTSTAMP:20260422T180010
CREATED:20200714T162820Z
LAST-MODIFIED:20200714T164540Z
UID:1455-1595347200-1595349000@laludoteca.cl
SUMMARY:Taller On Line "Taller de Yoga y Meditación: Juegos y Cantos"
DESCRIPTION:Con Carolina Saavedra. \nFonoaudióloga (Universidad de Concepción) e Instructora de Yoga y Meditación Metodología Atemporalia. \nPor medio de la metodología Atemporalia\, los niños experimentarán un encuentro con el yoga y la meditación por medio del canto y juegos. Un taller que estimulará su creatividad\, imaginación\, lenguaje\, habilidades sociales y muchos más. Vía on line. \n⏰  Duración: 30 a 40 minutos. \nValor por Sesión: $4.000. \nSi tomas 4 sesiones al mes: $3.500 por sesión (Total 4 sesiones: $14.000) \n🧒🏻 Destinatarios: Niños de 4 a 9 años \n📩 Inscripciones: contacto@laludoteca.cl \n  \n 
URL:https://laludoteca.cl/taller/taller-on-line-taller-de-yoga-y-meditacion-juegos-y-cantos/
CATEGORIES:Actividad On Line,Taller On Line
ATTACH;FMTTYPE=image/jpeg:https://laludoteca.cl/wp-content/uploads/2020/07/evento-yoga.jpg
END:VEVENT
BEGIN:VEVENT
DTSTART;TZID=America/Santiago:20200721T160000
DTEND;TZID=America/Santiago:20200721T163000
DTSTAMP:20260422T180010
CREATED:20200714T163210Z
LAST-MODIFIED:20200714T164540Z
UID:1461-1595347200-1595349000@laludoteca.cl
SUMMARY:Taller On Line «Ciencia Entretenida»
DESCRIPTION:Dirigido por Dana Paz. \nPor medio de distintas actividades se potenciará el desarrollo del pensamiento lógico y la apreciación de elementos del entorno a través de experimentos concretos que el niño/a podrá desarrollar desde su casa / Actividad en vivo. \n⏰ Duración: 30 a 40 minutos.\nValor por Sesión: $4.000. Si tomas 2 veces por semana $3.500 por sesión\n🧒🏻 Destinatarios: Niños de 5 a 9 años.\n📩 INSCRIPCIONES: contacto@laludoteca.clDana Paz
URL:https://laludoteca.cl/taller/taller-on-line-ciencia-entretenida-6/
CATEGORIES:Actividad On Line,Taller On Line
ATTACH;FMTTYPE=image/jpeg:https://laludoteca.cl/wp-content/uploads/2020/07/evento_ciencia-entretenida.jpg
END:VEVENT
BEGIN:VEVENT
DTSTART;TZID=America/Santiago:20200722T160000
DTEND;TZID=America/Santiago:20200722T160000
DTSTAMP:20260422T180010
CREATED:20200702T180621Z
LAST-MODIFIED:20200714T164803Z
UID:1340-1595433600-1595433600@laludoteca.cl
SUMMARY:Ciclo On Line "Taller de Vínculo y Apego para bebés" Sesión 1
DESCRIPTION:Guiado por Beatriz Orellana. Aprende a reforzar la relación con tu hijo/hija a través de la técnica del masaje en un espacio de contención\, calidez y conocimiento mutuo con el bebé para tomar conciencia de la importancia del vínculo temprano para fortalecer un apego seguro.\n🧒🏻 Destinatarios: Madres\, Padres y cuidadores de bebés entre 2 semanas y 8 meses.\nCupos Limitados.\n⏰ Duración por sesión: 45 a 60 minutos.\nDías: Miércoles 16:00 hrs.\nValor Mensual (4 sesiones): $16.000.\nValor por Sesión: $5.000.\n📩 INSCRIPCIONES: contacto@laludoteca.cl
URL:https://laludoteca.cl/taller/ciclo-on-line-taller-de-vinculo-y-apego-para-bebes-4-sesiones/
CATEGORIES:Taller On Line
ATTACH;FMTTYPE=image/jpeg:https://laludoteca.cl/wp-content/uploads/2020/07/evento_infantil.jpg
END:VEVENT
BEGIN:VEVENT
DTSTART;TZID=America/Santiago:20200722T170000
DTEND;TZID=America/Santiago:20200722T173000
DTSTAMP:20260422T180010
CREATED:20200714T164000Z
LAST-MODIFIED:20200714T164540Z
UID:1467-1595437200-1595439000@laludoteca.cl
SUMMARY:Taller On Line “Pura Expresión: Canto\, Música y Cuento”
DESCRIPTION:Dirige Natalia Scordamaglia. \nPor medio del canto\, la música y los cuentos los niños podrán compartir una instancia de encuentro con sus pares vía on line\, en vivo!!!\n⏰ Duración: 30 a 40 minutos.\nValor por Sesión: $4.000. Si tomas 2 veces por semana $3.500 por sesión\n🧒🏻 Destinatarios: Niños de 2 a 4 años \n📩 INSCRIPCIONES: contacto@laludoteca.cl
URL:https://laludoteca.cl/taller/taller-on-line-pura-expresion-canto-musica-y-cuento-9/
CATEGORIES:Actividad On Line,Taller On Line
ATTACH;FMTTYPE=image/jpeg:https://laludoteca.cl/wp-content/uploads/2020/07/evento_canto.jpg
END:VEVENT
BEGIN:VEVENT
DTSTART;TZID=America/Santiago:20200723T110000
DTEND;TZID=America/Santiago:20200723T233000
DTSTAMP:20260422T180010
CREATED:20200714T164139Z
LAST-MODIFIED:20200714T164540Z
UID:1469-1595502000-1595547000@laludoteca.cl
SUMMARY:Taller On Line “Pura Expresión: Canto\, Música y Cuento”
DESCRIPTION:Dirigido por Natalia Scordamaglia. \nPor medio del canto\, la música y los cuentos los niños podrán compartir una instancia de encuentro con sus pares vía en vivo!!!\n⏰ Duración: 30 a 40 minutos.\nValor por Sesión: $4.000. Si tomas 2 veces por semana $3.500 por sesión\n🧒🏻 Destinatarios: Niños de 2 a 4 años \n📩 INSCRIPCIONES: contacto@laludoteca.cl
URL:https://laludoteca.cl/taller/taller-on-line-pura-expresion-canto-musica-y-cuento-10/
CATEGORIES:Actividad On Line,Taller On Line
ATTACH;FMTTYPE=image/jpeg:https://laludoteca.cl/wp-content/uploads/2020/07/evento_canto.jpg
END:VEVENT
BEGIN:VEVENT
DTSTART;TZID=America/Santiago:20200724T160000
DTEND;TZID=America/Santiago:20200724T163000
DTSTAMP:20260422T180010
CREATED:20200714T163634Z
LAST-MODIFIED:20200714T164540Z
UID:1463-1595606400-1595608200@laludoteca.cl
SUMMARY:Taller On Line "Canti Cuentos: Yoga y Meditación"
DESCRIPTION:Con Carolina Saavedra. \nFonoaudióloga (Universidad de Concepción) e Instructora de Yoga y Meditación Metodología Atemporalia. \nPor medio de la metodología Atemporalia\, los niños experimentarán un encuentro con el yoga y la meditación por medio del canto y juegos acompañados de su madre\, padre y/o cuidador. Un taller que estimulará su creatividad\, imaginación\, lenguaje\, habilidades sociales y muchos más. Vía On Line. \n⏰  Duración: 30 a 40 minutos. \nValor por Sesión: $4.000. \nSi tomas 4 sesiones al mes: $3.500 por sesión (Total 4 sesiones: $14.000) \n🧒🏻 Destinatarios: Niños de 1 a 3 años \n📩 Inscripciones: contacto@laludoteca.cl
URL:https://laludoteca.cl/taller/taller-on-line-canti-cuentos-yoga-y-meditacion/
CATEGORIES:Actividad On Line,Taller On Line
ATTACH;FMTTYPE=image/jpeg:https://laludoteca.cl/wp-content/uploads/2020/07/evento_cuenti.jpg
END:VEVENT
BEGIN:VEVENT
DTSTART;TZID=America/Santiago:20200729T160000
DTEND;TZID=America/Santiago:20200729T170000
DTSTAMP:20260422T180010
CREATED:20200702T180721Z
LAST-MODIFIED:20200714T164803Z
UID:1344-1596038400-1596042000@laludoteca.cl
SUMMARY:Ciclo On Line "Taller de Vínculo y Apego para bebés" Sesión 2
DESCRIPTION:Guiado por Beatriz Orellana. Aprende a reforzar la relación con tu hijo/hija a través de la técnica del masaje en un espacio de contención\, calidez y conocimiento mutuo con el bebé para tomar conciencia de la importancia del vínculo temprano para fortalecer un apego seguro.\n🧒🏻 Destinatarios: Madres\, Padres y cuidadores de bebés entre 2 semanas y 8 meses.\nCupos Limitados.\n⏰ Duración por sesión: 45 a 60 minutos.\nDías: Miércoles 16:00 hrs.\nValor Mensual (4 sesiones): $16.000.\nValor por Sesión: $5.000.\n📩 INSCRIPCIONES: contacto@laludoteca.cl
URL:https://laludoteca.cl/taller/ciclo-on-line-taller-de-vinculo-y-apego-para-bebes-sesion-2/
CATEGORIES:Taller On Line
END:VEVENT
END:VCALENDAR