BEGIN:VCALENDAR
VERSION:2.0
PRODID:-//La Ludoteca - ECPv6.10.0//NONSGML v1.0//EN
CALSCALE:GREGORIAN
METHOD:PUBLISH
X-WR-CALNAME:La Ludoteca
X-ORIGINAL-URL:https://laludoteca.cl
X-WR-CALDESC:Eventos para La Ludoteca
REFRESH-INTERVAL;VALUE=DURATION:PT1H
X-Robots-Tag:noindex
X-PUBLISHED-TTL:PT1H
BEGIN:VTIMEZONE
TZID:America/Santiago
BEGIN:STANDARD
TZOFFSETFROM:-0300
TZOFFSETTO:-0400
TZNAME:-04
DTSTART:20210404T030000
END:STANDARD
BEGIN:DAYLIGHT
TZOFFSETFROM:-0400
TZOFFSETTO:-0300
TZNAME:-03
DTSTART:20210905T040000
END:DAYLIGHT
END:VTIMEZONE
BEGIN:VEVENT
DTSTART;TZID=America/Santiago:20210819T110000
DTEND;TZID=America/Santiago:20210819T114000
DTSTAMP:20260421T222037
CREATED:20210814T182259Z
LAST-MODIFIED:20210814T182259Z
UID:2758-1629370800-1629373200@laludoteca.cl
SUMMARY:Taller On Line Pura Expresión: Música y Poesía
DESCRIPTION:Un momento de conexión con cantos\, juegos e historias para imaginar. \nTallerista: Natalia Scordamaglia \nDestinatarios: niños de 2 a 5 años. \nValor por sesión: $3.500 • Valor mensual (4 sesiones): $14.000 \nReserva tu cupo: contacto@laludoteca.cl
URL:https://laludoteca.cl/taller/taller-on-line-pura-expresion-musica-y-poesia-29/
CATEGORIES:Actividad On Line,Taller On Line,Taller Presencial
ATTACH;FMTTYPE=image/jpeg:https://laludoteca.cl/wp-content/uploads/2021/03/Musica-y-Poesia-e1623631745197.jpg
END:VEVENT
BEGIN:VEVENT
DTSTART;TZID=America/Santiago:20210819T160000
DTEND;TZID=America/Santiago:20210819T164000
DTSTAMP:20260421T222037
CREATED:20210814T180834Z
LAST-MODIFIED:20210814T181511Z
UID:2745-1629388800-1629391200@laludoteca.cl
SUMMARY:Taller On Line CrossKids: Entrenamiento Físico
DESCRIPTION:Objetivo: desarrollar el cuerpo potenciando la coordinación\, velocidad\, fuerza y resistencia mediante juegos y ejercicios que a su vez mejorarán la confianza en sí mismos.\nDirigido a: niños 5 a 8 años\nDía Miércoles a las 16:00 hrs.\nValor por sesión: $3.500\nValor mensual (4 sesiones): $14.000\nReserva tu cupo: contacto@laludoteca.cl
URL:https://laludoteca.cl/taller/taller-on-line-crosskids-entrenamiento-fisico-11/
CATEGORIES:Actividad On Line,Taller,Taller On Line
ATTACH;FMTTYPE=image/jpeg:https://laludoteca.cl/wp-content/uploads/2021/07/crosskids_.jpg
END:VEVENT
END:VCALENDAR