BEGIN:VCALENDAR
VERSION:2.0
PRODID:-//La Ludoteca - ECPv6.10.0//NONSGML v1.0//EN
CALSCALE:GREGORIAN
METHOD:PUBLISH
X-WR-CALNAME:La Ludoteca
X-ORIGINAL-URL:https://laludoteca.cl
X-WR-CALDESC:Eventos para La Ludoteca
REFRESH-INTERVAL;VALUE=DURATION:PT1H
X-Robots-Tag:noindex
X-PUBLISHED-TTL:PT1H
BEGIN:VTIMEZONE
TZID:America/Santiago
BEGIN:STANDARD
TZOFFSETFROM:-0300
TZOFFSETTO:-0400
TZNAME:-04
DTSTART:20200405T030000
END:STANDARD
BEGIN:DAYLIGHT
TZOFFSETFROM:-0400
TZOFFSETTO:-0300
TZNAME:-03
DTSTART:20200906T040000
END:DAYLIGHT
END:VTIMEZONE
BEGIN:VEVENT
DTSTART;TZID=America/Santiago:20200919T180000
DTEND;TZID=America/Santiago:20200919T184500
DTSTAMP:20260421T203043
CREATED:20200916T210745Z
LAST-MODIFIED:20200916T210845Z
UID:1585-1600538400-1600541100@laludoteca.cl
SUMMARY:Sábado de Magia "Fantasías y Conjuros"
DESCRIPTION:Con Ignacio de Jourdan. \nDisfruta de este segundo show familiar de asombro\, humor y participación en formato virtual\, 100% interactiva en vivo. \nDirigido a toda la familia: niños\, papás\, abuelos y quien quiera sorprenderse. Especialmente para personas de 0 a 120 años que disfruten de imaginar un mundo en que los deseos se hacen realidad. \nRecomendado para toda la familia. \nDuración: 45 minutos \nValor: $4.000 \nInscripciones y reservas: contacto@laludoteca.cl \n*La actividad será confirmada con antelación con un mínimo de participantes.
URL:https://laludoteca.cl/taller/sabado-de-magia-fantasias-y-conjuros/
CATEGORIES:Actividad On Line
ATTACH;FMTTYPE=image/jpeg:https://laludoteca.cl/wp-content/uploads/2020/09/evento-magia-2.jpg
END:VEVENT
END:VCALENDAR