BEGIN:VCALENDAR
VERSION:2.0
PRODID:-//La Ludoteca - ECPv6.10.0//NONSGML v1.0//EN
CALSCALE:GREGORIAN
METHOD:PUBLISH
X-ORIGINAL-URL:https://laludoteca.cl
X-WR-CALDESC:Eventos para La Ludoteca
REFRESH-INTERVAL;VALUE=DURATION:PT1H
X-Robots-Tag:noindex
X-PUBLISHED-TTL:PT1H
BEGIN:VTIMEZONE
TZID:America/Santiago
BEGIN:STANDARD
TZOFFSETFROM:-0300
TZOFFSETTO:-0400
TZNAME:-04
DTSTART:20200405T030000
END:STANDARD
BEGIN:DAYLIGHT
TZOFFSETFROM:-0400
TZOFFSETTO:-0300
TZNAME:-03
DTSTART:20200906T040000
END:DAYLIGHT
END:VTIMEZONE
BEGIN:VEVENT
DTSTART;TZID=America/Santiago:20200721T160000
DTEND;TZID=America/Santiago:20200721T163000
DTSTAMP:20260419T154413
CREATED:20200714T163210Z
LAST-MODIFIED:20200714T164540Z
UID:1461-1595347200-1595349000@laludoteca.cl
SUMMARY:Taller On Line «Ciencia Entretenida»
DESCRIPTION:Dirigido por Dana Paz. \nPor medio de distintas actividades se potenciará el desarrollo del pensamiento lógico y la apreciación de elementos del entorno a través de experimentos concretos que el niño/a podrá desarrollar desde su casa / Actividad en vivo. \n⏰ Duración: 30 a 40 minutos.\nValor por Sesión: $4.000. Si tomas 2 veces por semana $3.500 por sesión\n🧒🏻 Destinatarios: Niños de 5 a 9 años.\n📩 INSCRIPCIONES: contacto@laludoteca.clDana Paz
URL:https://laludoteca.cl/taller/taller-on-line-ciencia-entretenida-6/
CATEGORIES:Actividad On Line,Taller On Line
ATTACH;FMTTYPE=image/jpeg:https://laludoteca.cl/wp-content/uploads/2020/07/evento_ciencia-entretenida.jpg
END:VEVENT
BEGIN:VEVENT
DTSTART;TZID=America/Santiago:20200724T160000
DTEND;TZID=America/Santiago:20200724T163000
DTSTAMP:20260419T154413
CREATED:20200714T163634Z
LAST-MODIFIED:20200714T164540Z
UID:1463-1595606400-1595608200@laludoteca.cl
SUMMARY:Taller On Line "Canti Cuentos: Yoga y Meditación"
DESCRIPTION:Con Carolina Saavedra. \nFonoaudióloga (Universidad de Concepción) e Instructora de Yoga y Meditación Metodología Atemporalia. \nPor medio de la metodología Atemporalia\, los niños experimentarán un encuentro con el yoga y la meditación por medio del canto y juegos acompañados de su madre\, padre y/o cuidador. Un taller que estimulará su creatividad\, imaginación\, lenguaje\, habilidades sociales y muchos más. Vía On Line. \n⏰  Duración: 30 a 40 minutos. \nValor por Sesión: $4.000. \nSi tomas 4 sesiones al mes: $3.500 por sesión (Total 4 sesiones: $14.000) \n🧒🏻 Destinatarios: Niños de 1 a 3 años \n📩 Inscripciones: contacto@laludoteca.cl
URL:https://laludoteca.cl/taller/taller-on-line-canti-cuentos-yoga-y-meditacion/
CATEGORIES:Actividad On Line,Taller On Line
ATTACH;FMTTYPE=image/jpeg:https://laludoteca.cl/wp-content/uploads/2020/07/evento_cuenti.jpg
END:VEVENT
END:VCALENDAR